BEGIN:VCALENDAR
VERSION:2.0
PRODID:-//ddaysoftware.com//NONSGML DDay.iCal 1.0//EN
BEGIN:VEVENT
CLASS:PUBLIC
CREATED:20260425T182258
DESCRIPTION:Für seine Wattwanderung nimmt der Borkumer Wattführer Albertus 
 Akkermann Sie mit ins Watt und erklärt Fauna und Flora des Wattenmeeres.\n
 \n Der Ausflug ins Watt dauert ca. 2 Std.
DTSTAMP:20260425T182258
DTSTART:20250411T144500
LOCATION:Treffpunkt ist die Bushaltestelle „Am Wattenmeer“ an der Reedestra
 ße
SEQUENCE:0
SUMMARY:Wattwanderung mit Albertus Akkermann
UID:5e555bd6-aa42-481f-b229-50dabfa5bd70
URL:https://www.borkum-unterkuenfte.de/Veranstaltungen-Borkum/Wattwanderung
 -Borkum-Albertus-Akkermann.htm
END:VEVENT
END:VCALENDAR
