BEGIN:VCALENDAR
VERSION:2.0
PRODID:-//ddaysoftware.com//NONSGML DDay.iCal 1.0//EN
BEGIN:VEVENT
CLASS:PUBLIC
CREATED:20260425T180926
DESCRIPTION:In dieser Vortragsreihe wechseln sich „inselbekannte“ Autoren u
 nd Vortragende mit kurzen Auftritten ab zu Themen und Fragen rund um Borku
 m und seiner Geschichte.
DTSTAMP:20260425T180926
DTSTART:20200827T193000
LOCATION:Kulturinsel (Raum Störtebeker)
SEQUENCE:0
SUMMARY:Von Borkum und Borkumern - Hätten Sie das gewusst\n\n Vorträge von 
 Borkumer Persönlichkeiten
UID:7d02a445-720d-4084-8f44-16c7f9519d6c
URL:https://www.borkum-unterkuenfte.de/Veranstaltungen-Borkum/Von-Borkum-un
 d-Borkumern.htm
END:VEVENT
END:VCALENDAR
