BEGIN:VCALENDAR
VERSION:2.0
PRODID:-//ddaysoftware.com//NONSGML DDay.iCal 1.0//EN
BEGIN:VEVENT
CLASS:PUBLIC
CREATED:20260420T170943
DESCRIPTION:Mit einem eisigen Bad in der Nordsee begrüßen Borkumer und Ihre
  Gäste traditionell das Neue Jahr.
DTSTAMP:20260420T170943
DTSTART:20260101T140000
LOCATION:Vereinshaus 'Middelhüsche' (Nähe Gezeitenland)
SEQUENCE:0
SUMMARY:Neujahrsbaden auf Borkum
UID:80a6f9f6-45fc-491c-afad-da0d764efd05
URL:https://www.borkum-unterkuenfte.de/Veranstaltungen-Borkum/Neujahrsbaden
 -Borkum.htm
END:VEVENT
END:VCALENDAR
