BEGIN:VCALENDAR
VERSION:2.0
PRODID:-//ddaysoftware.com//NONSGML DDay.iCal 1.0//EN
BEGIN:VEVENT
CLASS:PUBLIC
CREATED:20260423T081112
DESCRIPTION:Kabarett\n\n Mit Liedern und Texten des klassischen Kabaretts s
 pricht Hans-Peter Körner über Ärzte und Schwestern\, über Gesunde und Kran
 ke\, über Arznei und Medizin\, also über alles\, was mit Medizin zu tun ha
 t.\n\n Eintrittspreis ab 13\,00 € / Abendkasse ab 15\,00 €
DTSTAMP:20260423T081112
DTSTART:20190429T200000
LOCATION:Kulturinsel Borkum
SEQUENCE:0
SUMMARY:Körners Literaritäten Kabarett\n\n "Lachen ist die beste Medizin"
UID:5d32edd9-0e73-4ece-89d3-a0fc23ab730f
URL:https://www.borkum-unterkuenfte.de/Veranstaltungen-Borkum/Koerners-Lite
 raritaeten-Kabarett.htm
END:VEVENT
END:VCALENDAR
