BEGIN:VCALENDAR
VERSION:2.0
PRODID:-//ddaysoftware.com//NONSGML DDay.iCal 1.0//EN
BEGIN:VEVENT
CLASS:PUBLIC
CREATED:20260421T103156
DESCRIPTION:Aus den Weinanbaugebieten Deutschlands von der Nahe\, der Mosel
 \, Rheinhessen und der Pfalz präsentieren Winzer auf dem Borkumer Weinfest
  auf der oberen Strandpromenade ausgewählte Weine aus Ihrer Produktion. Pr
 obieren ausdrücklich erwünscht!\n\n Die Besucher erwartet ein kulinarische
 s und musikalisches Rahmenprogramm im  besonderen Insel-Ambiente.
DTSTAMP:20260421T103156
DTSTART:20250516T110000
LOCATION:Obere Strandpromenade
SEQUENCE:0
SUMMARY:Borkumer Weinfest\n\n Deurtsche Winzer geben sich die Ehre
UID:4f6d8191-e2c7-4dd3-920b-1f29234f2817
URL:https://www.borkum-unterkuenfte.de/Veranstaltungen-Borkum/Borkumer-Wein
 fest.htm
END:VEVENT
END:VCALENDAR
