BEGIN:VCALENDAR
VERSION:2.0
PRODID:-//ddaysoftware.com//NONSGML DDay.iCal 1.0//EN
BEGIN:VEVENT
CLASS:PUBLIC
CREATED:20260425T021249
DESCRIPTION:Kabarett/Comedy\n\n „Hurra\, ab Montag ist wieder Wochenende!“ 
 heißt das neue Programm von Bernd Stelter. Ein Programm für alle\, die übe
 r Montage mosern\, über Dienstage diskutieren\, die Mittwoche mies und Don
 nerstage doof finden.
DTSTAMP:20260425T021249
DTSTART:20220804T200000
LOCATION:Kulturinsel Borkum\\, Goethestr. 25
SEQUENCE:0
SUMMARY:Bernd Stelter\n\n Hurra\, ab Montag ist wieder Wochenende!
UID:2c564e56-3586-48a5-a70c-8c8b4a40661a
URL:https://www.borkum-unterkuenfte.de/Veranstaltungen-Borkum/Bernd-Stelter
 -Borkum.htm
END:VEVENT
END:VCALENDAR
